View In:
ArcGIS JavaScript
ArcGIS Online Map Viewer
ArcGIS Earth
Service Description: Geofokus/Luftfoto_1995
Name: Geofokus/Luftfoto_1995
Description:
Single Fused Map Cache: false
Extent:
XMin: 646000.0
YMin: 6153999.999999999
XMax: 682000.0
YMax: 6190000.0
Spatial Reference: 25832
(25832)
LatestVCSWkid(0)
Initial Extent:
XMin: 646000.0
YMin: 6153999.999999999
XMax: 682000.0
YMax: 6190000.0
Spatial Reference: 25832
(25832)
LatestVCSWkid(0)
Full Extent:
XMin: 646000.0
YMin: 6153999.999999999
XMax: 682000.0
YMax: 6190000.0
Spatial Reference: 25832
(25832)
LatestVCSWkid(0)
Pixel Size X: 0.8
Pixel Size Y: 0.8000000000000207
Band Count: 3
Pixel Type: U8
RasterFunction Infos: {"rasterFunctionInfos": [{
"name": "None",
"description": "",
"help": ""
}]}
Mensuration Capabilities: Basic
Inspection Capabilities:
Has Histograms: true
Has Colormap: false
Has Multi Dimensions : false
Rendering Rule:
Min Scale: 0
Max Scale: 0
Resampling: false
Copyright Text:
Service Data Type: esriImageServiceDataTypeRGB
Min Values: 0, 0, 0
Max Values: 255, 255, 255
Mean Values: 89.41285838847003, 96.40131246666469, 90.24465618178975
Standard Deviation Values: 38.16351421808707, 34.78287888545328, 28.79430558993941
Object ID Field:
Fields:
None
Default Mosaic Method: Center
Allowed Mosaic Methods:
SortField:
SortValue: null
Mosaic Operator: First
Default Compression Quality: 75
Default Resampling Method: Bilinear
Max Record Count: null
Max Image Height: 4100
Max Image Width: 15000
Max Download Image Count: null
Max Mosaic Image Count: null
Allow Raster Function: true
Allow Copy: true
Allow Analysis: true
Allow Compute TiePoints: false
Supports Statistics: false
Supports Advanced Queries: false
Use StandardizedQueries: true
Raster Type Infos:
Name: Raster Dataset
Description: Supports all ArcGIS Raster Datasets
Help:
Has Raster Attribute Table: false
Edit Fields Info: null
Ownership Based AccessControl For Rasters: null
Child Resources:
Info
Histograms
Statistics
Key Properties
Legend
Raster Function Infos
Supported Operations:
Export Image
Identify
Measure
Compute Histograms
Compute Statistics Histograms
Get Samples
Compute Class Statistics
Query Boundary
Compute Pixel Location
Compute Angles
Validate
Project